BEGIN:VCALENDAR
VERSION:2.0
PRODID:-//NC Trails - Great State Trails Coalition - ECPv6.15.20//NONSGML v1.0//EN
CALSCALE:GREGORIAN
METHOD:PUBLISH
X-ORIGINAL-URL:https://greattrailsnc.com
X-WR-CALDESC:Events for NC Trails - Great State Trails Coalition
REFRESH-INTERVAL;VALUE=DURATION:PT1H
X-Robots-Tag:noindex
X-PUBLISHED-TTL:PT1H
BEGIN:VTIMEZONE
TZID:UTC
BEGIN:STANDARD
TZOFFSETFROM:+0000
TZOFFSETTO:+0000
TZNAME:UTC
DTSTART:20240101T000000
END:STANDARD
END:VTIMEZONE
BEGIN:VEVENT
DTSTART;TZID=UTC:20250101T100000
DTEND;TZID=UTC:20250101T120000
DTSTAMP:20260421T100329
CREATED:20241217T191619Z
LAST-MODIFIED:20241217T191619Z
UID:10000695-1735725600-1735732800@greattrailsnc.com
SUMMARY:First Day Hike at Morrow Mountain State Park
DESCRIPTION:Come out to Morrow Mountain State Park on New Year’s Day to get your wellness goals started off on the right foot. \nJoin a park ranger for a guided hike on the 3.3-mile moderate to strenuous Sugarloaf Mountain trail. Sugarloaf’s 850-foot summit is a fitting destination with expansive views stretching across the Uwharrie Mountains\, Lake Tillery\, and beyond. \nBe sure to dress appropriately for the weather including sturdy hiking shoes and bring water to drink. The trailhead is located at the Bridle trail parking area\, which is the second driveway on the right after entering the state park gate. \nWed\, Jan 1 2025\, 10am – 12pm \nMorrow Mountain State Park 49104 Morrow Mountain Road Albemarle\, NC 28001
URL:https://greattrailsnc.com/event/first-day-hike-at-morrow-mountain-state-park/
LOCATION:Morrow Mountain State Park\, 49104 Morrow Mountain Rd\, North Carolina\, 28001\, US
ATTACH;FMTTYPE=image/jpeg:https://greattrailsnc.com/wp-content/uploads/2024/12/MOMO-9-23-Sugarloaf-Hike.jpg
END:VEVENT
END:VCALENDAR