BEGIN:VCALENDAR
VERSION:2.0
PRODID:-//NC Trails - Great State Trails Coalition - ECPv6.15.20//NONSGML v1.0//EN
CALSCALE:GREGORIAN
METHOD:PUBLISH
X-ORIGINAL-URL:https://greattrailsnc.com
X-WR-CALDESC:Events for NC Trails - Great State Trails Coalition
REFRESH-INTERVAL;VALUE=DURATION:PT1H
X-Robots-Tag:noindex
X-PUBLISHED-TTL:PT1H
BEGIN:VTIMEZONE
TZID:UTC
BEGIN:STANDARD
TZOFFSETFROM:+0000
TZOFFSETTO:+0000
TZNAME:UTC
DTSTART:20240101T000000
END:STANDARD
END:VTIMEZONE
BEGIN:VEVENT
DTSTART;TZID=UTC:20250101T110000
DTEND;TZID=UTC:20250101T123000
DTSTAMP:20260421T140625
CREATED:20241217T192402Z
LAST-MODIFIED:20241217T192402Z
UID:10000700-1735729200-1735734600@greattrailsnc.com
SUMMARY:First Day Hike (Salmon Creek State Natural Area)
DESCRIPTION:Join park ranger Katie Sanford for a leisurely\, approximately 2-mile hike at Bertie Beach. This county-owned property adjoins Salmon Creek State Natural Area in Merry Hill\, NC. Learn about local plants and wildlife\, as well as some of the history of the area. Dress for the weather\, and wear your walking shoes! \nThis hike is planned in partnership with Bertie County Parks and Recreation. \nWed\, Jan 1 2025\, 11am – 12:30pm \nBertie Beach 243 Bal Gra Road Merry Hill\, NC 27957
URL:https://greattrailsnc.com/event/first-day-hike-salmon-creek-state-natural-area/
LOCATION:Bertie Beach\, 243 Bal Gra Road\, Merry Hill\, NC\, 27957\, United States
ATTACH;FMTTYPE=image/webp:https://greattrailsnc.com/wp-content/uploads/2024/12/Fall-Colors-668x446-for-event-feature.webp
END:VEVENT
END:VCALENDAR